BEGIN:VCALENDAR
VERSION:2.0
PRODID:-//Pitbikes.gr - ECPv6.15.20//NONSGML v1.0//EN
CALSCALE:GREGORIAN
METHOD:PUBLISH
X-ORIGINAL-URL:https://pitbikes.gr
X-WR-CALDESC:Events for Pitbikes.gr
REFRESH-INTERVAL;VALUE=DURATION:PT1H
X-Robots-Tag:noindex
X-PUBLISHED-TTL:PT1H
BEGIN:VTIMEZONE
TZID:Europe/Athens
BEGIN:DAYLIGHT
TZOFFSETFROM:+0200
TZOFFSETTO:+0300
TZNAME:EEST
DTSTART:20240331T010000
END:DAYLIGHT
BEGIN:STANDARD
TZOFFSETFROM:+0300
TZOFFSETTO:+0200
TZNAME:EET
DTSTART:20241027T010000
END:STANDARD
BEGIN:DAYLIGHT
TZOFFSETFROM:+0200
TZOFFSETTO:+0300
TZNAME:EEST
DTSTART:20250330T010000
END:DAYLIGHT
BEGIN:STANDARD
TZOFFSETFROM:+0300
TZOFFSETTO:+0200
TZNAME:EET
DTSTART:20251026T010000
END:STANDARD
BEGIN:DAYLIGHT
TZOFFSETFROM:+0200
TZOFFSETTO:+0300
TZNAME:EEST
DTSTART:20260329T010000
END:DAYLIGHT
BEGIN:STANDARD
TZOFFSETFROM:+0300
TZOFFSETTO:+0200
TZNAME:EET
DTSTART:20261025T010000
END:STANDARD
END:VTIMEZONE
BEGIN:VEVENT
DTSTART;TZID=Europe/Athens:20251011T090000
DTEND;TZID=Europe/Athens:20251012T160000
DTSTAMP:20260424T125746
CREATED:20230126T095525Z
LAST-MODIFIED:20250905T163030Z
UID:7546-1760173200-1760284800@pitbikes.gr
SUMMARY:Trackday Extreme PooL Kart LariSa
DESCRIPTION:Διήμερη Προπόνηση στην Πίστα Καρτ της Λάρισας \n 
URL:https://pitbikes.gr/event/trackday-extreme-pool-kart-larisa/
LOCATION:Extreme Pool Kart Larissa\, 7ο χιλιομετρο καρδιτσα\, Λάρισα 413 35\, Λάρισα\, Λάρισα\, 41335\, Ελλάδα
ATTACH;FMTTYPE=image/jpeg:https://pitbikes.gr/wp-content/uploads/2023/01/att.cEWrWGFBcTCxoOHEVnfeAq15Q-Qhl6dzhIyibC2nAUg.jpeg
END:VEVENT
END:VCALENDAR